BEGIN:VCALENDAR
VERSION:2.0
PRODID:-//Lyme Bay Ladies - ECPv6.15.18//NONSGML v1.0//EN
CALSCALE:GREGORIAN
METHOD:PUBLISH
X-WR-CALNAME:Lyme Bay Ladies
X-ORIGINAL-URL:https://lymebayladies.co.uk
X-WR-CALDESC:Events for Lyme Bay Ladies
REFRESH-INTERVAL;VALUE=DURATION:PT1H
X-Robots-Tag:noindex
X-PUBLISHED-TTL:PT1H
BEGIN:VTIMEZONE
TZID:Europe/London
BEGIN:DAYLIGHT
TZOFFSETFROM:+0000
TZOFFSETTO:+0100
TZNAME:BST
DTSTART:20250330T010000
END:DAYLIGHT
BEGIN:STANDARD
TZOFFSETFROM:+0100
TZOFFSETTO:+0000
TZNAME:GMT
DTSTART:20251026T010000
END:STANDARD
BEGIN:DAYLIGHT
TZOFFSETFROM:+0000
TZOFFSETTO:+0100
TZNAME:BST
DTSTART:20260329T010000
END:DAYLIGHT
BEGIN:STANDARD
TZOFFSETFROM:+0100
TZOFFSETTO:+0000
TZNAME:GMT
DTSTART:20261025T010000
END:STANDARD
BEGIN:DAYLIGHT
TZOFFSETFROM:+0000
TZOFFSETTO:+0100
TZNAME:BST
DTSTART:20270328T010000
END:DAYLIGHT
BEGIN:STANDARD
TZOFFSETFROM:+0100
TZOFFSETTO:+0000
TZNAME:GMT
DTSTART:20271031T010000
END:STANDARD
END:VTIMEZONE
BEGIN:VEVENT
DTSTART;TZID=Europe/London:20260304T100000
DTEND;TZID=Europe/London:20260304T120000
DTSTAMP:20260419T183044
CREATED:20260101T180029Z
LAST-MODIFIED:20260306T075804Z
UID:10000009-1772618400-1772625600@lymebayladies.co.uk
SUMMARY:LBL Connect Exeter 4th Mar 2026
DESCRIPTION:Join us for a relaxed and friendly morning coffee at The Jack in the Green\, Rockbeare (near Exeter). \nThis is a lovely opportunity to step away from the day-to-day\, enjoy great coffee and connect with local\, like-minded women in a welcoming\, supportive space. You’ll also have the chance to meet our Exeter Ambassador\, Amy Sugrue from On Point VA. \nWhether you’re looking to gently grow your business\, meet new people\, or simply give yourself a good reason to get out of the house\, you’ll be warmly welcomed. \nThere’s no pressure and no elevator pitches\, just genuine conversation\, friendly faces and the chance to build real connections in a relaxed\, social setting. \n✔️ Plenty of free parking✔️ Now includes hot drink of choice on arrival \nTickets• £10 for LBL members (valid membership card required)• £15 for non-members \nTo access the discounted member ticket\, please ensure your membership is up to date or join us at  www.lymebayladies.co.uk. \nIf you have any questions\, please email info@lymebayladies.co.uk. \nWe’d love you to join us and look forward to seeing you there. \nLisa & Amy
URL:https://lymebayladies.co.uk/event/lbl-connect-exeter-mar26/
LOCATION:The Jack in the Green\, Rockbeare\, London Rd\, Exeter EX5 2EE\, Rockbeare\, London Rd\, Exeter\, Devon\, EX5 2EE\, United Kingdom
CATEGORIES:Business
ATTACH;FMTTYPE=image/jpeg:https://lymebayladies.co.uk/wp-content/uploads/2025/12/Exeter.jpg
ORGANIZER;CN="Lyme Bay Ladies":MAILTO:info@lymebayladies.co.uk
END:VEVENT
BEGIN:VEVENT
DTSTART;TZID=Europe/London:20260308T063000
DTEND;TZID=Europe/London:20260308T093000
DTSTAMP:20260419T183044
CREATED:20260101T193027Z
LAST-MODIFIED:20260308T115619Z
UID:10000045-1772951400-1772962200@lymebayladies.co.uk
SUMMARY:Sunrise Beach Event for Int'l Women's Day - 8th Mar
DESCRIPTION:To celebrate International Women’s Day we are planning to meet on the beach to watch the sunrise.\nThis is about bringing women together to connect in a magical place on a special day.\n\nPlans are not fixed but the idea is:\n\n6:30am Gather to watch the sunrise7am Optional Swim7:30 Women’s circle / meditation / movement / journalling8:30 Coffee and breakfast at The Kiosk\n\nWhat we do will depend on the weather\, how we feel and which wonderful LBL’s join us and if they wish to lead a discussion/activity……..let’s go with the flow!\n\nMeet at The Groyne which is the wall that separates sandy beach from pebble beach (it’s where the beach huts end) and bring warm clothing/layers/waterproof and maybe a flask of something hot to drink to keep you going until The Kiosk opens.\n\nThe Kiosk have offered us some specials deals that I will share with you later.\n\nFind out more and be part of the discussion at: https://www.facebook.com/events/897184026437499
URL:https://lymebayladies.co.uk/event/sunrise-beach-event-for-intl-womens-day-8th-mar/
LOCATION:Dorset
CATEGORIES:Social
ATTACH;FMTTYPE=image/gif:https://lymebayladies.co.uk/wp-content/uploads/2026/03/hearthands.gif
END:VEVENT
BEGIN:VEVENT
DTSTART;TZID=Europe/London:20260312T100000
DTEND;TZID=Europe/London:20260312T120000
DTSTAMP:20260419T183045
CREATED:20260101T190023Z
LAST-MODIFIED:20260316T132124Z
UID:10000010-1773309600-1773316800@lymebayladies.co.uk
SUMMARY:LBL Connect Lyme & Axminster 12th March 2026
DESCRIPTION:Relaxed and social way to connect authentically with other positive and inspiring business women. There is no elevator pitch just warm welcomes\, getting to know you and a chance to enjoy great coffee and even better company! \nWhether you want to make new contacts to build your business or just have a decent reason to get out of the house\, come and join us. \nJoin us at Ria’s Space @ Millers Farm. Refreshments will be provided – coffee\, tea and cake or biscuits. \nTickets are: \n£8.50 for LBL members with valid membership card \n£14 for non-members \nBoth include refreshments. \nTo get the discounted ticket please join us for your membership number at www.lymebayladies.co.uk \nWe look forward to seeing you all. \nAny questions email info@lymebayladies.co.uk \nRia (Love Ria) & Lisa (Lyme Bay Ladies) \nps – if it is your first time joining us then don’t use the postcode in your sat nav just head to Millers Farm Shop and Ria’s is in the grounds – far right next to overflow car park and fish shack.
URL:https://lymebayladies.co.uk/event/lbl-connect-lyme-axminster-mar26/
LOCATION:Ria’s Scent Lab\, Millers Farm Shop\, nr Kilmington\, Devon\, EX13 7RA\, United Kingdom
CATEGORIES:Business
ATTACH;FMTTYPE=image/jpeg:https://lymebayladies.co.uk/wp-content/uploads/2025/12/Connect-Lyme-Axminster.jpg
ORGANIZER;CN="Lyme Bay Ladies":MAILTO:info@lymebayladies.co.uk
END:VEVENT
BEGIN:VEVENT
DTSTART;TZID=Europe/London:20260317T100000
DTEND;TZID=Europe/London:20260317T120000
DTSTAMP:20260419T183045
CREATED:20260101T183031Z
LAST-MODIFIED:20260325T110651Z
UID:10000043-1773741600-1773748800@lymebayladies.co.uk
SUMMARY:Cooking Demo\, Tastings & Shopping - Sidmouth 17th Mar
DESCRIPTION:Naked Larder Sidmouth offers people in East Devon a different\, ethical\, sustainable way to shop. All of my items are ethically sourced and purchased in bulk volumes to ensure a minimal impact on the earth and your wallet. Naked Larder provides a range of grains\, beans & pulses\, nuts\, dried fruit\, flours\, pasta\, cereals\, eco-friendly cleaning product refills\, personal care products and more\, for people who seek to reduce their packaging waste and environmental impact without increasing the cost of their grocery bills.\n\nhttps://www.nakedlardersidmouth.co.uk/\n\n£5 per ticket\nIncludes: tea & coffee\, a demo of how to make Naked Larder Superfood Brownies\, tasting samples and a voucher for £5 to be used on the day (bring your containers!)\n\nMaximum: 10 tickets\n\nAddress:\nNaked Larder Sidmouth\, Lower Weston Farmhouse\, Weston\, Sidmouth\, EX10 0PH.\n\nFree parking on Grammar Lane\, which is opposite Naked Larder\, what3words: ///life.leaves.eyelashes.
URL:https://lymebayladies.co.uk/event/44532/
LOCATION:Naked Larder\, Lower Weston Farmhouse\, Weston\, Sidmouth\, EX10 0PH\, United Kingdom
CATEGORIES:Social,Workshop
ATTACH;FMTTYPE=image/png:https://lymebayladies.co.uk/wp-content/uploads/2026/02/Naked-Larder.png
ORGANIZER;CN="Lyme Bay Ladies":MAILTO:info@lymebayladies.co.uk
END:VEVENT
BEGIN:VEVENT
DTSTART;TZID=Europe/London:20260327T093000
DTEND;TZID=Europe/London:20260327T133000
DTSTAMP:20260419T183045
CREATED:20260101T190055Z
LAST-MODIFIED:20260328T080222Z
UID:10000044-1774603800-1774618200@lymebayladies.co.uk
SUMMARY:Wealth Reimagined Event – 27th March
DESCRIPTION:An event by LBL Premium Member – Isabel Knight – and hosted by Winslade Park. Book direct (details below) and 20% discount for LBL’s with a valid membership card. \nA morning event exploring a new relationship with wealth. \nWealth Reimagined is an event for women who want to explore wealth beyond income and accumulation\, looking at identity\, values\, and how women can step into wealth as stewards\, investors\, and capital allocators in a way that feels aligned and true. \nWe are living through a period of rapid change and old models of wealth\, power\, and success are being questioned\, with new possibilities emerging. This event invites women into a new paradigm for wealth\, one that integrates purpose\, agency\, and impact. \nAt its heart\, this is about a different way of seeing ourselves in relation to wealth. Whether you are just beginning to think about investing or already stewarding significant assets\, this is a conversation you are warmly invited to join. \nEvent Details\n\nDate: 27 March\nTime: 9:30am–1:30pm\n(Main session 10:00–12:45\, followed by lunch and informal conversation)\nLocation: The Forge\, Winslade Manor\nTicket includes: Coffee on arrival\, refreshments\, light lunch\, facilitated table conversations and parking on site.\n\nWhat the morning will include\n\nA short keynote from Isabel Knight on reimagining wealth and identity\nA plenary conversation exploring the funding gap for female-led businesses and what needs to shift — drawing on how elite women’s sport has been transformed when women back women\, and what that teaches us about capital\, courage\, and change\nPerspectives and lived experience from women building\, stewarding\, and investing wealth in different ways\nSmall-group table conversations to support reflection\, insight\, and connection\n\nThis is not a financial literacy workshop or a traditional networking event. It is a structured\, conversational space designed for meaningful exchange. \nWhy this event\nThis event opens a conversation about how women relate to wealth today\, and explores where that conversation may lead. \nThe aim is that you leave with: \n\nA clearer sense of your own relationship with wealth\nNew perspectives from women walking similar paths\nInsight into what might be next on your own journey with wealth and investing\n\nBook HERE \nCoupon code for LBL Members with a valid membership card please use wealth-26
URL:https://lymebayladies.co.uk/event/wealth-reimagined-event-27th-march/
LOCATION:The Forge\, Winslade Manor\, Winslade Park Ave\, Manor Drive\, Clyst St Mary\, Exeter\, Devon\, EX5 1FY\, United Kingdom
CATEGORIES:Business,Workshop
ATTACH;FMTTYPE=image/png:https://lymebayladies.co.uk/wp-content/uploads/2026/02/Screenshot-2026-02-27-at-08.05.52.png
END:VEVENT
END:VCALENDAR